BEGIN:VCALENDAR
VERSION:2.0
PRODID:-//Grundschule Geweke - ECPv6.6.4.2//NONSGML v1.0//EN
CALSCALE:GREGORIAN
METHOD:PUBLISH
X-ORIGINAL-URL:https://grundschule-geweke.de
X-WR-CALDESC:Veranstaltungen für Grundschule Geweke
REFRESH-INTERVAL;VALUE=DURATION:PT1H
X-Robots-Tag:noindex
X-PUBLISHED-TTL:PT1H
BEGIN:VTIMEZONE
TZID:Europe/Berlin
BEGIN:DAYLIGHT
TZOFFSETFROM:+0100
TZOFFSETTO:+0200
TZNAME:CEST
DTSTART:20240331T010000
END:DAYLIGHT
BEGIN:STANDARD
TZOFFSETFROM:+0200
TZOFFSETTO:+0100
TZNAME:CET
DTSTART:20241027T010000
END:STANDARD
END:VTIMEZONE
BEGIN:VEVENT
DTSTART;VALUE=DATE:20240304
DTEND;VALUE=DATE:20240307
DTSTAMP:20260424T113641
CREATED:20230806T130118Z
LAST-MODIFIED:20230806T130118Z
UID:1406-1709510400-1709769599@grundschule-geweke.de
SUMMARY:Klassenfahrt Klassen 4
DESCRIPTION:
URL:https://grundschule-geweke.de/termin/klassenfahrt-klassen-4-2/
END:VEVENT
BEGIN:VEVENT
DTSTART;VALUE=DATE:20240306
DTEND;VALUE=DATE:20240307
DTSTAMP:20260424T113641
CREATED:20230806T125810Z
LAST-MODIFIED:20230806T125810Z
UID:1402-1709683200-1709769599@grundschule-geweke.de
SUMMARY:2. Profiltag
DESCRIPTION:
URL:https://grundschule-geweke.de/termin/2-profiltag-3/
END:VEVENT
BEGIN:VEVENT
DTSTART;VALUE=DATE:20240307
DTEND;VALUE=DATE:20240308
DTSTAMP:20260424T113641
CREATED:20240203T194342Z
LAST-MODIFIED:20240203T194342Z
UID:1711-1709769600-1709855999@grundschule-geweke.de
SUMMARY:Theaterpädagogische Werkstatt
DESCRIPTION:„Mein Körper gehört mir“\, Teil 2  (Standort Ennepeufer)
URL:https://grundschule-geweke.de/termin/theaterpaedagogische-werkstatt-2/
END:VEVENT
BEGIN:VEVENT
DTSTART;VALUE=DATE:20240311
DTEND;VALUE=DATE:20240316
DTSTAMP:20260424T113641
CREATED:20230806T131114Z
LAST-MODIFIED:20230806T131114Z
UID:1412-1710115200-1710547199@grundschule-geweke.de
SUMMARY:Elternsprechtag Klassen 1-3
DESCRIPTION:
URL:https://grundschule-geweke.de/termin/elternsprechtag-klassen-1-3-3/
END:VEVENT
BEGIN:VEVENT
DTSTART;VALUE=DATE:20240313
DTEND;VALUE=DATE:20240314
DTSTAMP:20260424T113641
CREATED:20240203T194439Z
LAST-MODIFIED:20240203T194439Z
UID:1713-1710288000-1710374399@grundschule-geweke.de
SUMMARY:Theaterpädagogische Werkstatt
DESCRIPTION:„Mein Körper gehört mir“\, Teil 3 (Standort Ennepeufer)
URL:https://grundschule-geweke.de/termin/theaterpaedagogische-werkstatt-3/
END:VEVENT
BEGIN:VEVENT
DTSTART;VALUE=DATE:20240315
DTEND;VALUE=DATE:20240316
DTSTAMP:20260424T113641
CREATED:20240125T163243Z
LAST-MODIFIED:20240125T163243Z
UID:1700-1710460800-1710547199@grundschule-geweke.de
SUMMARY:Waffeltag
DESCRIPTION:Helferklassen: 2a\, 3a\, 4a
URL:https://grundschule-geweke.de/termin/waffeltag-4/
END:VEVENT
BEGIN:VEVENT
DTSTART;VALUE=DATE:20240320
DTEND;VALUE=DATE:20240321
DTSTAMP:20260424T113641
CREATED:20230806T130210Z
LAST-MODIFIED:20230806T130210Z
UID:1408-1710892800-1710979199@grundschule-geweke.de
SUMMARY:Kollegiumsinterne Fortbildung (Studientag)
DESCRIPTION:
URL:https://grundschule-geweke.de/termin/kollegiumsinterne-fortbildung-studientag-3/
END:VEVENT
BEGIN:VEVENT
DTSTART;VALUE=DATE:20240323
DTEND;VALUE=DATE:20240408
DTSTAMP:20260424T113641
CREATED:20230806T131208Z
LAST-MODIFIED:20230806T131208Z
UID:1414-1711152000-1712534399@grundschule-geweke.de
SUMMARY:Osterferien
DESCRIPTION:
URL:https://grundschule-geweke.de/termin/osterferien-2/
END:VEVENT
END:VCALENDAR