BEGIN:VCALENDAR
VERSION:2.0
PRODID:-//Grundschule Geweke - ECPv6.6.4.2//NONSGML v1.0//EN
CALSCALE:GREGORIAN
METHOD:PUBLISH
X-WR-CALNAME:Grundschule Geweke
X-ORIGINAL-URL:https://grundschule-geweke.de
X-WR-CALDESC:Veranstaltungen für Grundschule Geweke
REFRESH-INTERVAL;VALUE=DURATION:PT1H
X-Robots-Tag:noindex
X-PUBLISHED-TTL:PT1H
BEGIN:VTIMEZONE
TZID:Europe/Berlin
BEGIN:DAYLIGHT
TZOFFSETFROM:+0100
TZOFFSETTO:+0200
TZNAME:CEST
DTSTART:20250330T010000
END:DAYLIGHT
BEGIN:STANDARD
TZOFFSETFROM:+0200
TZOFFSETTO:+0100
TZNAME:CET
DTSTART:20251026T010000
END:STANDARD
END:VTIMEZONE
BEGIN:VEVENT
DTSTART;VALUE=DATE:20250929
DTEND;VALUE=DATE:20251002
DTSTAMP:20260421T125235
CREATED:20250831T144525Z
LAST-MODIFIED:20250831T144525Z
UID:2622-1759104000-1759363199@grundschule-geweke.de
SUMMARY:Klassenfahrt Jahrgang 4
DESCRIPTION:
URL:https://grundschule-geweke.de/termin/klassenfahrt-jahrgang-4-2/
END:VEVENT
BEGIN:VEVENT
DTSTART;VALUE=DATE:20251001
DTEND;VALUE=DATE:20251002
DTSTAMP:20260421T125235
CREATED:20250831T144627Z
LAST-MODIFIED:20250831T144627Z
UID:2624-1759276800-1759363199@grundschule-geweke.de
SUMMARY:Aktion Schulen im Team
DESCRIPTION:
URL:https://grundschule-geweke.de/termin/aktion-schulen-im-team/
END:VEVENT
END:VCALENDAR