BEGIN:VCALENDAR
VERSION:2.0
PRODID:-//Grundschule Geweke - ECPv6.6.4.2//NONSGML v1.0//EN
CALSCALE:GREGORIAN
METHOD:PUBLISH
X-ORIGINAL-URL:https://grundschule-geweke.de
X-WR-CALDESC:Veranstaltungen für Grundschule Geweke
REFRESH-INTERVAL;VALUE=DURATION:PT1H
X-Robots-Tag:noindex
X-PUBLISHED-TTL:PT1H
BEGIN:VTIMEZONE
TZID:Europe/Berlin
BEGIN:DAYLIGHT
TZOFFSETFROM:+0100
TZOFFSETTO:+0200
TZNAME:CEST
DTSTART:20240331T010000
END:DAYLIGHT
BEGIN:STANDARD
TZOFFSETFROM:+0200
TZOFFSETTO:+0100
TZNAME:CET
DTSTART:20241027T010000
END:STANDARD
END:VTIMEZONE
BEGIN:VEVENT
DTSTART;VALUE=DATE:20240424
DTEND;VALUE=DATE:20240425
DTSTAMP:20260424T142053
CREATED:20240415T172035Z
LAST-MODIFIED:20240415T172035Z
UID:1759-1713916800-1714003199@grundschule-geweke.de
SUMMARY:Welttag des Buches Kl. 4c+4e
DESCRIPTION:Besuch der Buchhandlung „Lesen & Hören“
URL:https://grundschule-geweke.de/termin/welttag-des-buches-kl-4c4e/
END:VEVENT
BEGIN:VEVENT
DTSTART;VALUE=DATE:20240424
DTEND;VALUE=DATE:20240425
DTSTAMP:20260424T142053
CREATED:20240425T171113Z
LAST-MODIFIED:20240425T171113Z
UID:1769-1713916800-1714003199@grundschule-geweke.de
SUMMARY:VERA Deutsch/ Lesen
DESCRIPTION:
URL:https://grundschule-geweke.de/termin/vera-deutsch-lesen/
END:VEVENT
END:VCALENDAR