BEGIN:VCALENDAR
VERSION:2.0
PRODID:-//Grundschule Geweke - ECPv6.6.4.2//NONSGML v1.0//EN
CALSCALE:GREGORIAN
METHOD:PUBLISH
X-WR-CALNAME:Grundschule Geweke
X-ORIGINAL-URL:https://grundschule-geweke.de
X-WR-CALDESC:Veranstaltungen für Grundschule Geweke
REFRESH-INTERVAL;VALUE=DURATION:PT1H
X-Robots-Tag:noindex
X-PUBLISHED-TTL:PT1H
BEGIN:VTIMEZONE
TZID:Europe/Berlin
BEGIN:DAYLIGHT
TZOFFSETFROM:+0100
TZOFFSETTO:+0200
TZNAME:CEST
DTSTART:20240331T010000
END:DAYLIGHT
BEGIN:STANDARD
TZOFFSETFROM:+0200
TZOFFSETTO:+0100
TZNAME:CET
DTSTART:20241027T010000
END:STANDARD
END:VTIMEZONE
BEGIN:VEVENT
DTSTART;VALUE=DATE:20240228
DTEND;VALUE=DATE:20240229
DTSTAMP:20260422T145650
CREATED:20240203T194232Z
LAST-MODIFIED:20240203T194558Z
UID:1709-1709078400-1709164799@grundschule-geweke.de
SUMMARY:Theaterpädagogische Werkstatt
DESCRIPTION:„Mein Körper gehört mir“\, Teil 1 (Standort Ennepeufer)
URL:https://grundschule-geweke.de/termin/theaterpaedagogische-werkstatt/
END:VEVENT
END:VCALENDAR