BEGIN:VCALENDAR
VERSION:2.0
PRODID:-//Grundschule Geweke - ECPv6.6.4.2//NONSGML v1.0//EN
CALSCALE:GREGORIAN
METHOD:PUBLISH
X-WR-CALNAME:Grundschule Geweke
X-ORIGINAL-URL:https://grundschule-geweke.de
X-WR-CALDESC:Veranstaltungen für Grundschule Geweke
REFRESH-INTERVAL;VALUE=DURATION:PT1H
X-Robots-Tag:noindex
X-PUBLISHED-TTL:PT1H
BEGIN:VTIMEZONE
TZID:Europe/Berlin
BEGIN:DAYLIGHT
TZOFFSETFROM:+0100
TZOFFSETTO:+0200
TZNAME:CEST
DTSTART:20230326T010000
END:DAYLIGHT
BEGIN:STANDARD
TZOFFSETFROM:+0200
TZOFFSETTO:+0100
TZNAME:CET
DTSTART:20231029T010000
END:STANDARD
END:VTIMEZONE
BEGIN:VEVENT
DTSTART;VALUE=DATE:20231219
DTEND;VALUE=DATE:20231220
DTSTAMP:20260423T110544
CREATED:20230806T125046Z
LAST-MODIFIED:20230806T125046Z
UID:1384-1702944000-1703030399@grundschule-geweke.de
SUMMARY:Adventsgottesdienst kath. Kirche St. Bonifatius
DESCRIPTION:8.00 Uhr Ennepeufer \n9.00 Uhr Spielbrink
URL:https://grundschule-geweke.de/termin/adventsgottesdienst-kath-kirche-st-bonifatius/
END:VEVENT
END:VCALENDAR